BEGIN:VCALENDAR
VERSION:2.0
PRODID:-//Turks and Caicos Magazine - ECPv5.4.0.2//NONSGML v1.0//EN
CALSCALE:GREGORIAN
METHOD:PUBLISH
X-WR-CALNAME:Turks and Caicos Magazine
X-ORIGINAL-URL:http://tcimagazine.com
X-WR-CALDESC:Events for Turks and Caicos Magazine
BEGIN:VTIMEZONE
TZID:America/Halifax
BEGIN:DAYLIGHT
TZOFFSETFROM:-0400
TZOFFSETTO:-0300
TZNAME:ADT
DTSTART:20200308T060000
END:DAYLIGHT
BEGIN:STANDARD
TZOFFSETFROM:-0300
TZOFFSETTO:-0400
TZNAME:AST
DTSTART:20201101T050000
END:STANDARD
END:VTIMEZONE
BEGIN:VEVENT
DTSTART;TZID=America/Halifax:20200215T103000
DTEND;TZID=America/Halifax:20200215T160000
DTSTAMP:20260422T121302
CREATED:20161122T155205Z
LAST-MODIFIED:20200113T125420Z
UID:1578-1581762600-1581782400@tcimagazine.com
SUMMARY:Valentine's Sailing Cup
DESCRIPTION:Year after year\, residents and visitors alike enjoy celebrating the Annual Valentine’s Day Cup\, one of the biggest events on the island of Middle Caicos. An ode to local tradition\, hand-made sailboats race across the turquoise waters\, with music\, food and fun for the whole family on the beach. Click here for more details and be sure to like the event on Facebook for more updates \nImage: Dominique Rolle/Caya Hico Media
URL:http://tcimagazine.com/event/valentines-sailing-cup/
LOCATION:Bambarra beach\, Middle Caicos\, Turks and Caicos Islands
CATEGORIES:Featured,Turks and Caicos Events
ATTACH;FMTTYPE=image/jpeg:http://tcimagazine.com/six/wp-content/uploads/2017/02/valentines-cup3.jpg
END:VEVENT
END:VCALENDAR