BEGIN:VCALENDAR
VERSION:2.0
PRODID:-//Turks and Caicos Magazine - ECPv5.4.0.2//NONSGML v1.0//EN
CALSCALE:GREGORIAN
METHOD:PUBLISH
X-WR-CALNAME:Turks and Caicos Magazine
X-ORIGINAL-URL:http://tcimagazine.com
X-WR-CALDESC:Events for Turks and Caicos Magazine
BEGIN:VTIMEZONE
TZID:America/Halifax
BEGIN:DAYLIGHT
TZOFFSETFROM:-0400
TZOFFSETTO:-0300
TZNAME:ADT
DTSTART:20210314T060000
END:DAYLIGHT
BEGIN:STANDARD
TZOFFSETFROM:-0300
TZOFFSETTO:-0400
TZNAME:AST
DTSTART:20211107T050000
END:STANDARD
END:VTIMEZONE
BEGIN:VEVENT
DTSTART;TZID=America/Halifax:20210116T050000
DTEND;TZID=America/Halifax:20210116T120000
DTSTAMP:20260422T143025
CREATED:20210114T181337Z
LAST-MODIFIED:20210114T184730Z
UID:2553-1610773200-1610798400@tcimagazine.com
SUMMARY:Move-A-Thon TCI 2021
DESCRIPTION:A fundraiser supporting Nutrition in Demand\, this year’s Move-A-Thon TCI 2021 is happening on Saturday\, January 16. \nHeld annually on the second Saturday of January\, Move-A-Thon TCI started as a 5k event for runners\, walkers and cyclists\, with a 10k course for athletes who wanted more. The event has grown over the years to include both a half and a full marathon\, and attracts both residents and tourists\, with a growing number of international runners registering each year. \nThis year it comes with a twist\, as a virtual event! Taking part from anywhere\, registered participants can can walk\, run\, or cycle for the cause and submit their results online. It’s all done in three simple steps: register\, race and upload. Visit moveathontci.com for more details or to sign-up and support.
URL:http://tcimagazine.com/event/move-a-thon-tci-2021/
CATEGORIES:Featured,Turks and Caicos Events
ATTACH;FMTTYPE=image/jpeg:http://tcimagazine.com/six/wp-content/uploads/2021/01/movathontci2021.jpg
END:VEVENT
END:VCALENDAR