BEGIN:VCALENDAR
VERSION:2.0
PRODID:-//Turks and Caicos Magazine - ECPv5.4.0.2//NONSGML v1.0//EN
CALSCALE:GREGORIAN
METHOD:PUBLISH
X-WR-CALNAME:Turks and Caicos Magazine
X-ORIGINAL-URL:http://tcimagazine.com
X-WR-CALDESC:Events for Turks and Caicos Magazine
BEGIN:VTIMEZONE
TZID:America/Halifax
BEGIN:DAYLIGHT
TZOFFSETFROM:-0400
TZOFFSETTO:-0300
TZNAME:ADT
DTSTART:20200308T060000
END:DAYLIGHT
BEGIN:STANDARD
TZOFFSETFROM:-0300
TZOFFSETTO:-0400
TZNAME:AST
DTSTART:20201101T050000
END:STANDARD
END:VTIMEZONE
BEGIN:VEVENT
DTSTART;TZID=America/Halifax:20201226T160000
DTEND;TZID=America/Halifax:20201226T210000
DTSTAMP:20260422T161654
CREATED:20160705T121504Z
LAST-MODIFIED:20200113T125457Z
UID:1222-1608998400-1609016400@tcimagazine.com
SUMMARY:Maskanoo
DESCRIPTION:Heart-pounding drums\, whis­tles\, horns and cow bells bring life to the Grace Bay strip as eye popping costumes parade down the road for a traditional celebra­tion that never fails to excite Maskanoo! The event attracts record crowds to the Grace Bay area to enjoy local music\, fire­works\, food and fun for all ages. \nImage: Dominique Rolle/Caya Hico Media
URL:http://tcimagazine.com/event/maskanoo/
CATEGORIES:Turks and Caicos Events
ATTACH;FMTTYPE=image/jpeg:http://tcimagazine.com/six/wp-content/uploads/2016/07/DSC_1661_R-e1479829505228.jpg
END:VEVENT
END:VCALENDAR