BEGIN:VCALENDAR
VERSION:2.0
PRODID:-//Turks and Caicos Magazine - ECPv5.4.0.2//NONSGML v1.0//EN
CALSCALE:GREGORIAN
METHOD:PUBLISH
X-WR-CALNAME:Turks and Caicos Magazine
X-ORIGINAL-URL:http://tcimagazine.com
X-WR-CALDESC:Events for Turks and Caicos Magazine
BEGIN:VTIMEZONE
TZID:America/Halifax
BEGIN:DAYLIGHT
TZOFFSETFROM:-0400
TZOFFSETTO:-0300
TZNAME:ADT
DTSTART:20200308T060000
END:DAYLIGHT
BEGIN:STANDARD
TZOFFSETFROM:-0300
TZOFFSETTO:-0400
TZNAME:AST
DTSTART:20201101T050000
END:STANDARD
END:VTIMEZONE
BEGIN:VEVENT
DTSTART;TZID=America/Halifax:20200214T190000
DTEND;TZID=America/Halifax:20200214T220000
DTSTAMP:20260422T134635
CREATED:20200127T133437Z
LAST-MODIFIED:20200127T185019Z
UID:2931-1581706800-1581717600@tcimagazine.com
SUMMARY:Love Jones: A Valentines Concert
DESCRIPTION:Dinner\, live music\, this is set to be a magical night at The Shore Club presented by TESS.
URL:http://tcimagazine.com/event/love-jones-a-valentines-concert/
CATEGORIES:Featured,Turks and Caicos Events
ATTACH;FMTTYPE=image/png:http://tcimagazine.com/six/wp-content/uploads/2020/01/Love-Jones-Flyer.png
END:VEVENT
END:VCALENDAR