BEGIN:VCALENDAR
VERSION:2.0
PRODID:-//Turks and Caicos Magazine - ECPv5.4.0.2//NONSGML v1.0//EN
CALSCALE:GREGORIAN
METHOD:PUBLISH
X-WR-CALNAME:Turks and Caicos Magazine
X-ORIGINAL-URL:http://tcimagazine.com
X-WR-CALDESC:Events for Turks and Caicos Magazine
BEGIN:VTIMEZONE
TZID:America/Halifax
BEGIN:DAYLIGHT
TZOFFSETFROM:-0400
TZOFFSETTO:-0300
TZNAME:ADT
DTSTART:20200308T060000
END:DAYLIGHT
BEGIN:STANDARD
TZOFFSETFROM:-0300
TZOFFSETTO:-0400
TZNAME:AST
DTSTART:20201101T050000
END:STANDARD
END:VTIMEZONE
BEGIN:VEVENT
DTSTART;TZID=America/Halifax:20201010T180000
DTEND;TZID=America/Halifax:20201010T230000
DTSTAMP:20260422T170515
CREATED:20180828T214739Z
LAST-MODIFIED:20200519T174348Z
UID:2179-1602352800-1602370800@tcimagazine.com
SUMMARY:In The Pink
DESCRIPTION:Recycling fashion for a fantastic cause has turned into one of the island’s most exciting and successful annual events. This year’s 12th Annual In the Pink fundraiser benefiting the Turks and Caicos National Cancer Society\, is expected to be bigger and bolder than ever. \nThe event\, which takes place at The Palms\, not only attracts ladies for an evening of sipping and shopping\, the resort’s courtyard is transformed into a pink party paradise with hundreds of happy party goers enjoying food\, live music and dancing into the night. \n  \nImage: Paradise Photography
URL:http://tcimagazine.com/event/in-the-pink/
LOCATION:The Palms\, Turks And Caicos Islands
CATEGORIES:Featured,Turks and Caicos Events
ATTACH;FMTTYPE=image/jpeg:http://tcimagazine.com/six/wp-content/uploads/2018/08/ITP.jpg
END:VEVENT
END:VCALENDAR