BEGIN:VCALENDAR
VERSION:2.0
PRODID:-//Turks and Caicos Magazine - ECPv5.4.0.2//NONSGML v1.0//EN
CALSCALE:GREGORIAN
METHOD:PUBLISH
X-WR-CALNAME:Turks and Caicos Magazine
X-ORIGINAL-URL:http://tcimagazine.com
X-WR-CALDESC:Events for Turks and Caicos Magazine
BEGIN:VTIMEZONE
TZID:America/Halifax
BEGIN:DAYLIGHT
TZOFFSETFROM:-0400
TZOFFSETTO:-0300
TZNAME:ADT
DTSTART:20200308T060000
END:DAYLIGHT
BEGIN:STANDARD
TZOFFSETFROM:-0300
TZOFFSETTO:-0400
TZNAME:AST
DTSTART:20201101T050000
END:STANDARD
END:VTIMEZONE
BEGIN:VEVENT
DTSTART;VALUE=DATE:20200413
DTEND;VALUE=DATE:20200414
DTSTAMP:20260422T213838
CREATED:20161122T155453Z
LAST-MODIFIED:20200221T205755Z
UID:1584-1586736000-1586822399@tcimagazine.com
SUMMARY:Annual Kite Flying Competition
DESCRIPTION:Held Easter Monday on the beach at the Children’s Park in the Bight on Providenciales\, Horse Stable beach on North Caicos and Governor’s beach on Grand Turk\, this event is a must for families and fun lovers on island. \nEveryone is welcome to participate in activities including an Easter Egg Hunt and games like Egg & Spoon\, Tug-O-War and Sack Races. In addition to island music and lots to eat and drink on sale\, prizes and trophies are given for the Largest\, Smallest\, Most Artistic and Best Overall Kite.
URL:http://tcimagazine.com/event/annual-kite-flying-competition/
CATEGORIES:Featured,Turks and Caicos Events
END:VEVENT
END:VCALENDAR